BEGIN:VCALENDAR
VERSION:2.0
PRODID:SchoolNow
CALSCALE:GREGORIAN
BEGIN:VEVENT
UID:136cf8c6-1df6-11f1-ad6f-0a58a9feac02
DTSTAMP:20260414T025514Z
SUMMARY:FORBES - SENIOR NOCTI TESTING
URL;VALUE=URI:https://www.gatewayk12.org/ghs/calendar/8912312/forbes-senior
 -nocti-testing
DTSTART:20260317T120000Z
DTEND:20260317T180000Z
END:VEVENT
END:VCALENDAR
