BEGIN:VCALENDAR
VERSION:2.0
PRODID:SchoolNow
CALSCALE:GREGORIAN
BEGIN:VEVENT
UID:a2171186-1ec0-11f1-bf2b-0a58a9feac02
DTSTAMP:20260414T025514Z
SUMMARY:Skilled Trade/Career Fair
URL;VALUE=URI:https://www.gatewayk12.org/ghs/calendar/8914834/skilled-trade
 -career-fair
DTSTART:20260505T150000Z
DTEND:20260505T173000Z
END:VEVENT
END:VCALENDAR
