BEGIN:VCALENDAR
VERSION:2.0
PRODID:SchoolNow
CALSCALE:GREGORIAN
BEGIN:VEVENT
UID:02c222a0-2380-11f1-955a-02872b5e11b1
DTSTAMP:20260414T025514Z
SUMMARY:End of 3rd - 9 weeks
URL;VALUE=URI:https://www.gatewayk12.org/ghs/calendar/8929975/end-of-3rd-9-
 weeks
DTSTART:20260325T100000Z
DTEND:20260325T190000Z
END:VEVENT
END:VCALENDAR
