BEGIN:VCALENDAR
VERSION:2.0
PRODID:SchoolNow
CALSCALE:GREGORIAN
BEGIN:VEVENT
UID:842b4ba0-29d4-11f1-81a3-0a58a9feac02
DTSTAMP:20260414T025514Z
SUMMARY:(New Date) GHS Band Concert
URL;VALUE=URI:https://www.gatewayk12.org/ghs/calendar/8949280/new-date-ghs-
 band-concert
DTSTART:20260508T230000Z
DTEND:20260509T000000Z
END:VEVENT
END:VCALENDAR
