BEGIN:VCALENDAR
VERSION:2.0
PRODID:SchoolNow
CALSCALE:GREGORIAN
BEGIN:VEVENT
UID:5c6d4992-37ad-11f1-8580-0affe0735ed9
DTSTAMP:20260414T025514Z
SUMMARY:CFLA Acad. Spring Impact
URL;VALUE=URI:https://www.gatewayk12.org/ghs/calendar/8992211/cfla-acad-spr
 ing-impact
DTSTART:20260501T120000Z
DTEND:20260501T170000Z
END:VEVENT
END:VCALENDAR
