BEGIN:VCALENDAR
VERSION:2.0
PRODID:SchoolNow
CALSCALE:GREGORIAN
BEGIN:VEVENT
UID:1882fca0-5c7e-11f0-acac-0a58a9feac02
DTSTAMP:20260421T040512Z
SUMMARY:MIOSM GMS Students
URL;VALUE=URI:https://www.gatewayk12.org/gms/calendar/8397948/miosm-gms-stu
 dents
DTSTART:20260319T230000Z
DTEND:20260320T000000Z
END:VEVENT
END:VCALENDAR
