BEGIN:VCALENDAR
VERSION:2.0
PRODID:SchoolNow
CALSCALE:GREGORIAN
BEGIN:VEVENT
UID:1882ffb6-5c7e-11f0-82ea-0a58a9feac02
DTSTAMP:20260421T040512Z
SUMMARY:6-8 Band Concert
URL;VALUE=URI:https://www.gatewayk12.org/gms/calendar/8397951/6-8-band-conc
 ert
DTSTART:20260514T230000Z
DTEND:20260515T000000Z
END:VEVENT
END:VCALENDAR
