BEGIN:VCALENDAR
VERSION:2.0
PRODID:SchoolNow
CALSCALE:GREGORIAN
BEGIN:VEVENT
UID:154a70b4-ee27-11f0-b0f0-0a58a9feac02
DTSTAMP:20260421T040512Z
SUMMARY:8th Boys Basketball Game-Home
URL;VALUE=URI:https://www.gatewayk12.org/gms/calendar/8834041/8th-boys-bask
 etball-game-home
DTSTART:20260109T210000Z
DTEND:20260109T220000Z
END:VEVENT
END:VCALENDAR
