BEGIN:VCALENDAR
VERSION:2.0
PRODID:SchoolNow
CALSCALE:GREGORIAN
BEGIN:VEVENT
UID:154aad40-ee27-11f0-b19e-0a58a9feac02
DTSTAMP:20260421T040512Z
SUMMARY:7th Boys Basketball Game-Away
URL;VALUE=URI:https://www.gatewayk12.org/gms/calendar/8834044/7th-boys-bask
 etball-game-away
DTSTART:20260113T213000Z
DTEND:20260113T223000Z
END:VEVENT
END:VCALENDAR
