BEGIN:VCALENDAR
VERSION:2.0
PRODID:SchoolNow
CALSCALE:GREGORIAN
BEGIN:VEVENT
UID:154aae44-ee27-11f0-a87e-0a58a9feac02
DTSTAMP:20260421T040512Z
SUMMARY:8th Boys Basketball Game-Away
URL;VALUE=URI:https://www.gatewayk12.org/gms/calendar/8834045/8th-boys-bask
 etball-game-away
DTSTART:20260114T210000Z
DTEND:20260114T220000Z
END:VEVENT
END:VCALENDAR
