BEGIN:VCALENDAR
VERSION:2.0
PRODID:SchoolNow
CALSCALE:GREGORIAN
BEGIN:VEVENT
UID:4357e4a6-00af-11f1-aac9-0a58a9feac02
DTSTAMP:20260421T040512Z
SUMMARY:8th Girls Volleyball Game-Home
URL;VALUE=URI:https://www.gatewayk12.org/gms/calendar/8848334/8th-girls-vol
 leyball-game-home
DTSTART:20260203T210000Z
DTEND:20260203T220000Z
END:VEVENT
END:VCALENDAR
