BEGIN:VCALENDAR
VERSION:2.0
PRODID:SchoolNow
CALSCALE:GREGORIAN
BEGIN:VEVENT
UID:f32308f0-030e-11f1-83fa-0affc27b7c35
DTSTAMP:20260421T040512Z
SUMMARY:Girls 8th Volleyball Game-Home
URL;VALUE=URI:https://www.gatewayk12.org/gms/calendar/8850320/girls-8th-vol
 leyball-game-home
DTSTART:20260210T210000Z
DTEND:20260210T220000Z
END:VEVENT
END:VCALENDAR
