BEGIN:VCALENDAR
VERSION:2.0
PRODID:SchoolNow
CALSCALE:GREGORIAN
BEGIN:VEVENT
UID:f3232682-030e-11f1-979f-0affc27b7c35
DTSTAMP:20260421T040512Z
SUMMARY:Girls 7th Volleyball Game-Home
URL;VALUE=URI:https://www.gatewayk12.org/gms/calendar/8850321/girls-7th-vol
 leyball-game-home
DTSTART:20260210T220000Z
DTEND:20260210T230000Z
END:VEVENT
END:VCALENDAR
