BEGIN:VCALENDAR
VERSION:2.0
PRODID:SchoolNow
CALSCALE:GREGORIAN
BEGIN:VEVENT
UID:f32327fe-030e-11f1-99de-0affc27b7c35
DTSTAMP:20260421T040512Z
SUMMARY:Girls 8th Volleyball Game-Away
URL;VALUE=URI:https://www.gatewayk12.org/gms/calendar/8850322/girls-8th-vol
 leyball-game-away
DTSTART:20260212T203000Z
DTEND:20260212T213000Z
END:VEVENT
END:VCALENDAR
