BEGIN:VCALENDAR
VERSION:2.0
PRODID:SchoolNow
CALSCALE:GREGORIAN
BEGIN:VEVENT
UID:f3232916-030e-11f1-822e-0affc27b7c35
DTSTAMP:20260421T040512Z
SUMMARY:Girls 7th Volleyball Game-Away
URL;VALUE=URI:https://www.gatewayk12.org/gms/calendar/8850323/girls-7th-vol
 leyball-game-away
DTSTART:20260212T220000Z
DTEND:20260212T230000Z
END:VEVENT
END:VCALENDAR
