BEGIN:VCALENDAR
VERSION:2.0
PRODID:SchoolNow
CALSCALE:GREGORIAN
BEGIN:VEVENT
UID:232b7e4e-0bc3-11f1-9690-0a58a9feac02
DTSTAMP:20260421T040512Z
SUMMARY:8th Girls Volleyball Game-Away
URL;VALUE=URI:https://www.gatewayk12.org/gms/calendar/8857435/8th-girls-vol
 leyball-game-away
DTSTART:20260217T204500Z
DTEND:20260217T214500Z
END:VEVENT
END:VCALENDAR
