BEGIN:VCALENDAR
VERSION:2.0
PRODID:SchoolNow
CALSCALE:GREGORIAN
BEGIN:VEVENT
UID:232b9e74-0bc3-11f1-806a-0a58a9feac02
DTSTAMP:20260421T040512Z
SUMMARY:7th Girls Volleyball Game-Away
URL;VALUE=URI:https://www.gatewayk12.org/gms/calendar/8857436/7th-girls-vol
 leyball-game-away
DTSTART:20260217T220000Z
DTEND:20260217T230000Z
END:VEVENT
END:VCALENDAR
