BEGIN:VCALENDAR
VERSION:2.0
PRODID:SchoolNow
CALSCALE:GREGORIAN
BEGIN:VEVENT
UID:232ba13a-0bc3-11f1-a0f6-0a58a9feac02
DTSTAMP:20260421T040512Z
SUMMARY:7th Girls Volleyball Game-Home
URL;VALUE=URI:https://www.gatewayk12.org/gms/calendar/8857438/7th-girls-vol
 leyball-game-home
DTSTART:20260219T220000Z
DTEND:20260219T230000Z
END:VEVENT
END:VCALENDAR
