BEGIN:VCALENDAR
VERSION:2.0
PRODID:SchoolNow
CALSCALE:GREGORIAN
BEGIN:VEVENT
UID:a43ca594-1217-11f1-8bf3-0e8f8a4222ff
DTSTAMP:20260421T040512Z
SUMMARY:8th Girls Volleyball Game-Away
URL;VALUE=URI:https://www.gatewayk12.org/gms/calendar/8870154/8th-girls-vol
 leyball-game-away
DTSTART:20260224T210000Z
DTEND:20260224T220000Z
END:VEVENT
END:VCALENDAR
