BEGIN:VCALENDAR
VERSION:2.0
PRODID:SchoolNow
CALSCALE:GREGORIAN
BEGIN:VEVENT
UID:a43cc470-1217-11f1-b0dd-0e8f8a4222ff
DTSTAMP:20260421T040512Z
SUMMARY:7th Girls Volleyball Game-Away
URL;VALUE=URI:https://www.gatewayk12.org/gms/calendar/8870155/7th-girls-vol
 leyball-game-away
DTSTART:20260224T220000Z
DTEND:20260224T230000Z
END:VEVENT
END:VCALENDAR
