BEGIN:VCALENDAR
VERSION:2.0
PRODID:SchoolNow
CALSCALE:GREGORIAN
BEGIN:VEVENT
UID:a43cc600-1217-11f1-84ce-0e8f8a4222ff
DTSTAMP:20260421T040512Z
SUMMARY:8th Girls Volleyball Game-Home
URL;VALUE=URI:https://www.gatewayk12.org/gms/calendar/8870156/8th-girls-vol
 leyball-game-home
DTSTART:20260226T210000Z
DTEND:20260226T220000Z
END:VEVENT
END:VCALENDAR
