BEGIN:VCALENDAR
VERSION:2.0
PRODID:SchoolNow
CALSCALE:GREGORIAN
BEGIN:VEVENT
UID:a43cc72c-1217-11f1-8bdb-0e8f8a4222ff
DTSTAMP:20260421T040512Z
SUMMARY:7th Girls Volleyball Game-Home
URL;VALUE=URI:https://www.gatewayk12.org/gms/calendar/8870157/7th-girls-vol
 leyball-game-home
DTSTART:20260226T220000Z
DTEND:20260226T230000Z
END:VEVENT
END:VCALENDAR
