BEGIN:VCALENDAR
VERSION:2.0
PRODID:SchoolNow
CALSCALE:GREGORIAN
BEGIN:VEVENT
UID:541e893a-1477-11f1-9070-0afffd59b015
DTSTAMP:20260421T040512Z
SUMMARY:8th Girls Volleyball Game-Home
URL;VALUE=URI:https://www.gatewayk12.org/gms/calendar/8878023/8th-girls-vol
 leyball-game-home
DTSTART:20260303T210000Z
DTEND:20260303T220000Z
END:VEVENT
END:VCALENDAR
