BEGIN:VCALENDAR
VERSION:2.0
PRODID:SchoolNow
CALSCALE:GREGORIAN
BEGIN:VEVENT
UID:541ea9e2-1477-11f1-9db5-0afffd59b015
DTSTAMP:20260421T040512Z
SUMMARY:7th Girls Volleyball Game-Home
URL;VALUE=URI:https://www.gatewayk12.org/gms/calendar/8878024/7th-girls-vol
 leyball-game-home
DTSTART:20260303T220000Z
DTEND:20260303T230000Z
END:VEVENT
END:VCALENDAR
