BEGIN:VCALENDAR
VERSION:2.0
PRODID:SchoolNow
CALSCALE:GREGORIAN
BEGIN:VEVENT
UID:541eaba4-1477-11f1-9127-0afffd59b015
DTSTAMP:20260421T040512Z
SUMMARY:8th Girls Volleyball Game-Home
URL;VALUE=URI:https://www.gatewayk12.org/gms/calendar/8878025/8th-girls-vol
 leyball-game-home
DTSTART:20260305T210000Z
DTEND:20260305T220000Z
END:VEVENT
END:VCALENDAR
