BEGIN:VCALENDAR
VERSION:2.0
PRODID:SchoolNow
CALSCALE:GREGORIAN
BEGIN:VEVENT
UID:541eacc6-1477-11f1-b8bd-0afffd59b015
DTSTAMP:20260421T040512Z
SUMMARY:7th Girls Volleyball Game-Home
URL;VALUE=URI:https://www.gatewayk12.org/gms/calendar/8878026/7th-girls-vol
 leyball-game-home
DTSTART:20260305T220000Z
DTEND:20260305T230000Z
END:VEVENT
END:VCALENDAR
