BEGIN:VCALENDAR
VERSION:2.0
PRODID:SchoolNow
CALSCALE:GREGORIAN
BEGIN:VEVENT
UID:4353e840-1a01-11f1-b903-0213b7800e33
DTSTAMP:20260421T040512Z
SUMMARY:8th Girls Volleyball Game-Away
URL;VALUE=URI:https://www.gatewayk12.org/gms/calendar/8898393/8th-girls-vol
 leyball-game-away
DTSTART:20260310T194500Z
DTEND:20260310T204500Z
END:VEVENT
END:VCALENDAR
