BEGIN:VCALENDAR
VERSION:2.0
PRODID:SchoolNow
CALSCALE:GREGORIAN
BEGIN:VEVENT
UID:435409f6-1a01-11f1-97d0-0213b7800e33
DTSTAMP:20260418T033512Z
SUMMARY:7th Girls Volleyball Game-Away
URL;VALUE=URI:https://www.gatewayk12.org/gms/calendar/8898394/7th-girls-vol
 leyball-game-away
DTSTART:20260310T200000Z
DTEND:20260310T210000Z
END:VEVENT
END:VCALENDAR
