BEGIN:VCALENDAR
VERSION:2.0
PRODID:SchoolNow
CALSCALE:GREGORIAN
BEGIN:VEVENT
UID:43540b86-1a01-11f1-98b9-0213b7800e33
DTSTAMP:20260421T040512Z
SUMMARY:8th Girls Volleyball Game-Away
URL;VALUE=URI:https://www.gatewayk12.org/gms/calendar/8898395/8th-girls-vol
 leyball-game-away
DTSTART:20260312T200000Z
DTEND:20260312T210000Z
END:VEVENT
END:VCALENDAR
