BEGIN:VCALENDAR
VERSION:2.0
PRODID:SchoolNow
CALSCALE:GREGORIAN
BEGIN:VEVENT
UID:43540ca8-1a01-11f1-ab76-0213b7800e33
DTSTAMP:20260421T040512Z
SUMMARY:7th Girls Volleyball Game-Away
URL;VALUE=URI:https://www.gatewayk12.org/gms/calendar/8898396/7th-girls-vol
 leyball-game-away
DTSTART:20260312T210000Z
DTEND:20260312T220000Z
END:VEVENT
END:VCALENDAR
