BEGIN:VCALENDAR
VERSION:2.0
PRODID:SchoolNow
CALSCALE:GREGORIAN
BEGIN:VEVENT
UID:93e904cc-244a-11f1-8c8b-0affcb33a07b
DTSTAMP:20260421T040512Z
SUMMARY:Co-Ed MS Track & Field-Away
URL;VALUE=URI:https://www.gatewayk12.org/gms/calendar/8932695/co-ed-ms-trac
 k-field-away
DTSTART:20260323T193000Z
DTEND:20260323T203000Z
END:VEVENT
END:VCALENDAR
