BEGIN:VCALENDAR
VERSION:2.0
PRODID:SchoolNow
CALSCALE:GREGORIAN
BEGIN:VEVENT
UID:93e90ad0-244a-11f1-a202-0affcb33a07b
DTSTAMP:20260421T040512Z
SUMMARY:Boys MS Baseball Game-Home
URL;VALUE=URI:https://www.gatewayk12.org/gms/calendar/8932698/boys-ms-baseb
 all-game-home
DTSTART:20260325T200000Z
DTEND:20260325T210000Z
END:VEVENT
END:VCALENDAR
