BEGIN:VCALENDAR
VERSION:2.0
PRODID:SchoolNow
CALSCALE:GREGORIAN
BEGIN:VEVENT
UID:93e90c06-244a-11f1-ab9d-0affcb33a07b
DTSTAMP:20260421T040512Z
SUMMARY:Girls MS Softball Game-Home
URL;VALUE=URI:https://www.gatewayk12.org/gms/calendar/8932699/girls-ms-soft
 ball-game-home
DTSTART:20260323T200000Z
DTEND:20260323T210000Z
END:VEVENT
END:VCALENDAR
