BEGIN:VCALENDAR
VERSION:2.0
PRODID:SchoolNow
CALSCALE:GREGORIAN
BEGIN:VEVENT
UID:93e90cf6-244a-11f1-b778-0affcb33a07b
DTSTAMP:20260421T040512Z
SUMMARY:Girls MS Softball Game-Away
URL;VALUE=URI:https://www.gatewayk12.org/gms/calendar/8932700/girls-ms-soft
 ball-game-away
DTSTART:20260325T200000Z
DTEND:20260325T210000Z
END:VEVENT
END:VCALENDAR
