BEGIN:VCALENDAR
VERSION:2.0
PRODID:SchoolNow
CALSCALE:GREGORIAN
BEGIN:VEVENT
UID:9ba585f2-3ad7-11f1-afcb-0a58a9feac02
DTSTAMP:20260421T040512Z
SUMMARY:8th Boys Baseball Game-Away
URL;VALUE=URI:https://www.gatewayk12.org/gms/calendar/9002275/8th-boys-base
 ball-game-away
DTSTART:20260420T193000Z
DTEND:20260420T203000Z
END:VEVENT
END:VCALENDAR
