BEGIN:VCALENDAR
VERSION:2.0
PRODID:SchoolNow
CALSCALE:GREGORIAN
BEGIN:VEVENT
UID:9ba58de0-3ad7-11f1-a179-0a58a9feac02
DTSTAMP:20260421T040512Z
SUMMARY:Co-Ed MS Track & Field-Home
URL;VALUE=URI:https://www.gatewayk12.org/gms/calendar/9002280/co-ed-ms-trac
 k-field-home
DTSTART:20260420T200000Z
DTEND:20260420T210000Z
END:VEVENT
END:VCALENDAR
