BEGIN:VCALENDAR
VERSION:2.0
PRODID:SchoolNow
CALSCALE:GREGORIAN
BEGIN:VEVENT
UID:20becac6-d009-11f0-a56a-0e0facb1990b
DTSTAMP:20260410T154531Z
SUMMARY:May Regular Meeting
URL;VALUE=URI:https://www.gatewayk12.org/our-district/calendar/8816520/may-
 regular-meeting
DTSTART:20260526T220000Z
DTEND:20260527T000000Z
END:VEVENT
END:VCALENDAR
