BEGIN:VCALENDAR
VERSION:2.0
PRODID:SchoolNow
CALSCALE:GREGORIAN
BEGIN:VEVENT
UID:4753a680-0325-11f1-8b32-0a58a9feac02
DTSTAMP:20260410T154532Z
SUMMARY:Building & Grounds Committee
URL;VALUE=URI:https://www.gatewayk12.org/our-district/calendar/8850326/buil
 ding-grounds-committee
DTSTART:20260305T230000Z
DTEND:20260306T000000Z
END:VEVENT
END:VCALENDAR
