BEGIN:VCALENDAR
VERSION:2.0
PRODID:SchoolNow
CALSCALE:GREGORIAN
BEGIN:VEVENT
UID:4753aa5e-0325-11f1-85d2-0a58a9feac02
DTSTAMP:20260410T154532Z
SUMMARY:Finance Committee Meeting
URL;VALUE=URI:https://www.gatewayk12.org/our-district/calendar/8850327/fina
 nce-committee-meeting
DTSTART:20260319T210000Z
DTEND:20260319T220000Z
END:VEVENT
END:VCALENDAR
