BEGIN:VCALENDAR
VERSION:2.0
PRODID:SchoolNow
CALSCALE:GREGORIAN
BEGIN:VEVENT
UID:e1617db2-1bf1-11f1-bf99-0a58a9feac02
DTSTAMP:20260410T154532Z
SUMMARY:In Service Day - NO SCHOOL
URL;VALUE=URI:https://www.gatewayk12.org/our-district/calendar/8905072/in-s
 ervice-day-no-school
DTSTART;VALUE=DATE:20260313
DTEND;VALUE=DATE:20260314
END:VEVENT
END:VCALENDAR
