BEGIN:VCALENDAR
VERSION:2.0
PRODID:SchoolNow
CALSCALE:GREGORIAN
BEGIN:VEVENT
UID:c08f3c52-72a3-11f0-8202-0affe062137b
DTSTAMP:20260309T195159Z
SUMMARY:In Service Day - No School
URL;VALUE=URI:https://www.gatewayk12.org/ram/calendar/8475650/in-service-da
 y-no-school
DTSTART:20260313T125000Z
DTEND:20260313T192000Z
END:VEVENT
END:VCALENDAR
