BEGIN:VCALENDAR
VERSION:2.0
PRODID:SchoolNow
CALSCALE:GREGORIAN
BEGIN:VEVENT
UID:c08f3e14-72a3-11f0-8c53-0affe062137b
DTSTAMP:20260309T195159Z
SUMMARY:Memorial Day - No School
URL;VALUE=URI:https://www.gatewayk12.org/ram/calendar/8475652/memorial-day-
 no-school
DTSTART:20260525T125000Z
DTEND:20260525T192000Z
END:VEVENT
END:VCALENDAR
