BEGIN:VCALENDAR
VERSION:2.0
PRODID:SchoolNow
CALSCALE:GREGORIAN
BEGIN:VEVENT
UID:c08f3ef0-72a3-11f0-a33c-0affe062137b
DTSTAMP:20260309T195159Z
SUMMARY:Last Student Day
URL;VALUE=URI:https://www.gatewayk12.org/ram/calendar/8475653/last-student-
 day
DTSTART:20260603T125000Z
DTEND:20260603T192000Z
END:VEVENT
END:VCALENDAR
