BEGIN:VCALENDAR
VERSION:2.0
PRODID:SchoolNow
CALSCALE:GREGORIAN
BEGIN:VEVENT
UID:0d706d42-d1cd-11f0-bb7c-0affd905178f
DTSTAMP:20260309T195508Z
SUMMARY:Clerical Day - NO SCHOOL
URL;VALUE=URI:https://www.gatewayk12.org/up/calendar/8818193/clerical-day-n
 o-school
DTSTART;VALUE=DATE:20260116
DTEND;VALUE=DATE:20260117
END:VEVENT
END:VCALENDAR
