BEGIN:VCALENDAR
VERSION:2.0
PRODID:SchoolNow
CALSCALE:GREGORIAN
BEGIN:VEVENT
UID:0d70a9d8-d1cd-11f0-9273-0affd905178f
DTSTAMP:20260309T195508Z
SUMMARY:MLK JR Day - NO SCHOOL
URL;VALUE=URI:https://www.gatewayk12.org/up/calendar/8818194/mlk-jr-day-no-
 school
DTSTART;VALUE=DATE:20260119
DTEND;VALUE=DATE:20260120
END:VEVENT
END:VCALENDAR
