BEGIN:VCALENDAR
VERSION:2.0
PRODID:SchoolNow
CALSCALE:GREGORIAN
BEGIN:VEVENT
UID:0d70ac62-d1cd-11f0-b5db-0affd905178f
DTSTAMP:20260309T195508Z
SUMMARY:Family Literacy Night
URL;VALUE=URI:https://www.gatewayk12.org/up/calendar/8818195/family-literac
 y-night
DTSTART:20260226T230000Z
DTEND:20260227T000000Z
END:VEVENT
END:VCALENDAR
