BEGIN:VCALENDAR
VERSION:2.0
PRODID:SchoolNow
CALSCALE:GREGORIAN
BEGIN:VEVENT
UID:0d70ae56-d1cd-11f0-a1b8-0affd905178f
DTSTAMP:20260309T195508Z
SUMMARY:In Service Day - NO SCHOOL
URL;VALUE=URI:https://www.gatewayk12.org/up/calendar/8818196/in-service-day
 -no-school
DTSTART;VALUE=DATE:20260216
DTEND;VALUE=DATE:20260217
END:VEVENT
END:VCALENDAR
