BEGIN:VCALENDAR
VERSION:2.0
PRODID:SchoolNow
CALSCALE:GREGORIAN
BEGIN:VEVENT
UID:0d70b464-d1cd-11f0-92ab-0affd905178f
DTSTAMP:20260309T195508Z
SUMMARY:PSSA Testing
URL;VALUE=URI:https://www.gatewayk12.org/up/calendar/8818201/pssa-testing
DTSTART;VALUE=DATE:20260423
DTEND;VALUE=DATE:20260424
END:VEVENT
END:VCALENDAR
