BEGIN:VCALENDAR
VERSION:2.0
PRODID:SchoolNow
CALSCALE:GREGORIAN
BEGIN:VEVENT
UID:0d70b540-d1cd-11f0-be5e-0affd905178f
DTSTAMP:20260309T195508Z
SUMMARY:PSSA Testing
URL;VALUE=URI:https://www.gatewayk12.org/up/calendar/8818202/pssa-testing
DTSTART;VALUE=DATE:20260424
DTEND;VALUE=DATE:20260425
END:VEVENT
END:VCALENDAR
