BEGIN:VCALENDAR
VERSION:2.0
PRODID:SchoolNow
CALSCALE:GREGORIAN
BEGIN:VEVENT
UID:0d70b70c-d1cd-11f0-88ab-0affd905178f
DTSTAMP:20260309T195508Z
SUMMARY:PSSA Testing
URL;VALUE=URI:https://www.gatewayk12.org/up/calendar/8818204/pssa-testing
DTSTART;VALUE=DATE:20260428
DTEND;VALUE=DATE:20260429
END:VEVENT
END:VCALENDAR
